BEGIN:VCALENDAR
VERSION:2.0
PRODID:-//American Leadership Forum Silicon Valley - ECPv6.15.20//NONSGML v1.0//EN
CALSCALE:GREGORIAN
METHOD:PUBLISH
X-WR-CALNAME:American Leadership Forum Silicon Valley
X-ORIGINAL-URL:https://www.alfsv.org
X-WR-CALDESC:Events for American Leadership Forum Silicon Valley
REFRESH-INTERVAL;VALUE=DURATION:PT1H
X-Robots-Tag:noindex
X-PUBLISHED-TTL:PT1H
BEGIN:VTIMEZONE
TZID:America/Los_Angeles
BEGIN:DAYLIGHT
TZOFFSETFROM:-0800
TZOFFSETTO:-0700
TZNAME:PDT
DTSTART:20250309T100000
END:DAYLIGHT
BEGIN:STANDARD
TZOFFSETFROM:-0700
TZOFFSETTO:-0800
TZNAME:PST
DTSTART:20251102T090000
END:STANDARD
BEGIN:DAYLIGHT
TZOFFSETFROM:-0800
TZOFFSETTO:-0700
TZNAME:PDT
DTSTART:20260308T100000
END:DAYLIGHT
BEGIN:STANDARD
TZOFFSETFROM:-0700
TZOFFSETTO:-0800
TZNAME:PST
DTSTART:20261101T090000
END:STANDARD
BEGIN:DAYLIGHT
TZOFFSETFROM:-0800
TZOFFSETTO:-0700
TZNAME:PDT
DTSTART:20270314T100000
END:DAYLIGHT
BEGIN:STANDARD
TZOFFSETFROM:-0700
TZOFFSETTO:-0800
TZNAME:PST
DTSTART:20271107T090000
END:STANDARD
END:VTIMEZONE
BEGIN:VEVENT
DTSTART;VALUE=DATE:20260409
DTEND;VALUE=DATE:20260411
DTSTAMP:20260422T220207
CREATED:20250808T001943Z
LAST-MODIFIED:20250808T001943Z
UID:56734-1775692800-1775865599@www.alfsv.org
SUMMARY:Fellows Class XLVI Session: Orientation
DESCRIPTION:For reference only. Session dates subject to change. \nLearn more about the ALF Fellows Program here.
URL:https://www.alfsv.org/event/fellows-class-xlvi-session-orientation/
LOCATION:Private Venue
CATEGORIES:Session Calendar,The Fellows Program
END:VEVENT
END:VCALENDAR