BEGIN:VCALENDAR
VERSION:2.0
PRODID:-//American Leadership Forum Silicon Valley - ECPv6.15.20//NONSGML v1.0//EN
CALSCALE:GREGORIAN
METHOD:PUBLISH
X-ORIGINAL-URL:https://www.alfsv.org
X-WR-CALDESC:Events for American Leadership Forum Silicon Valley
REFRESH-INTERVAL;VALUE=DURATION:PT1H
X-Robots-Tag:noindex
X-PUBLISHED-TTL:PT1H
BEGIN:VTIMEZONE
TZID:America/Los_Angeles
BEGIN:DAYLIGHT
TZOFFSETFROM:-0800
TZOFFSETTO:-0700
TZNAME:PDT
DTSTART:20250309T100000
END:DAYLIGHT
BEGIN:STANDARD
TZOFFSETFROM:-0700
TZOFFSETTO:-0800
TZNAME:PST
DTSTART:20251102T090000
END:STANDARD
BEGIN:DAYLIGHT
TZOFFSETFROM:-0800
TZOFFSETTO:-0700
TZNAME:PDT
DTSTART:20260308T100000
END:DAYLIGHT
BEGIN:STANDARD
TZOFFSETFROM:-0700
TZOFFSETTO:-0800
TZNAME:PST
DTSTART:20261101T090000
END:STANDARD
BEGIN:DAYLIGHT
TZOFFSETFROM:-0800
TZOFFSETTO:-0700
TZNAME:PDT
DTSTART:20270314T100000
END:DAYLIGHT
BEGIN:STANDARD
TZOFFSETFROM:-0700
TZOFFSETTO:-0800
TZNAME:PST
DTSTART:20271107T090000
END:STANDARD
END:VTIMEZONE
BEGIN:VEVENT
DTSTART;TZID=America/Los_Angeles:20260423T173000
DTEND;TZID=America/Los_Angeles:20260423T210000
DTSTAMP:20260422T220312
CREATED:20251216T165832Z
LAST-MODIFIED:20251216T165921Z
UID:58461-1776965400-1776978000@www.alfsv.org
SUMMARY:Exemplary Leadership 2026
DESCRIPTION:***SAVE-THE-DATE*** \nLearn more about ALF Silicon Valley’s biggest night of the year! \nAwardee announcements\, ticket sales\, and more event details coming in January 2026! Stay tuned!
URL:https://www.alfsv.org/event/exemplary-leadership-2026/
LOCATION:Sharon Heights Golf & Country Club\, 2900 Sand Hill Road\, Menlo Park\, CA\, 94025\, United States
CATEGORIES:ALF Silicon Valley,Exemplary Leadership,Social event/mixer
END:VEVENT
END:VCALENDAR