BEGIN:VCALENDAR
VERSION:2.0
PRODID:-//American Leadership Forum Silicon Valley - ECPv6.15.20//NONSGML v1.0//EN
CALSCALE:GREGORIAN
METHOD:PUBLISH
X-WR-CALNAME:American Leadership Forum Silicon Valley
X-ORIGINAL-URL:https://www.alfsv.org
X-WR-CALDESC:Events for American Leadership Forum Silicon Valley
REFRESH-INTERVAL;VALUE=DURATION:PT1H
X-Robots-Tag:noindex
X-PUBLISHED-TTL:PT1H
BEGIN:VTIMEZONE
TZID:America/Los_Angeles
BEGIN:DAYLIGHT
TZOFFSETFROM:-0800
TZOFFSETTO:-0700
TZNAME:PDT
DTSTART:20250309T100000
END:DAYLIGHT
BEGIN:STANDARD
TZOFFSETFROM:-0700
TZOFFSETTO:-0800
TZNAME:PST
DTSTART:20251102T090000
END:STANDARD
BEGIN:DAYLIGHT
TZOFFSETFROM:-0800
TZOFFSETTO:-0700
TZNAME:PDT
DTSTART:20260308T100000
END:DAYLIGHT
BEGIN:STANDARD
TZOFFSETFROM:-0700
TZOFFSETTO:-0800
TZNAME:PST
DTSTART:20261101T090000
END:STANDARD
BEGIN:DAYLIGHT
TZOFFSETFROM:-0800
TZOFFSETTO:-0700
TZNAME:PDT
DTSTART:20270314T100000
END:DAYLIGHT
BEGIN:STANDARD
TZOFFSETFROM:-0700
TZOFFSETTO:-0800
TZNAME:PST
DTSTART:20271107T090000
END:STANDARD
END:VTIMEZONE
BEGIN:VEVENT
DTSTART;TZID=America/Los_Angeles:20260306T083000
DTEND;TZID=America/Los_Angeles:20260306T120000
DTSTAMP:20260422T220730
CREATED:20260217T022709Z
LAST-MODIFIED:20260217T175009Z
UID:59247-1772785800-1772798400@www.alfsv.org
SUMMARY:ALF's The Power of We
DESCRIPTION:Welcome Back\, Welcome In: Bridging & Intersectionality \nALF Silicon Valley’s The Power of We welcomes new and returning participants as we deepen our shared work and explore “The Power of Bridging” in 2026. Civil rights scholar john a. powell reminds us that “none of us has a primary identity.” This session introduces intersectionality—the idea that aspects of identity (such as race\, gender\, class\, ability\, etc.) overlap to shape our experiences of power. By understanding these connections\, we move toward a leadership rooted in bridging rather than breaking\, and in building deliberate common cause. \nLight breakfast will be provided. \n			\n				\n				\n				\n				\n				REGISTER NOW\n\n\n\n\n\n			\n				\n				\n				\n				\n				DATE: March 6\nTIME: 8:00 AM – 12:00 PM PT\nVENUE: ALF Silicon Valley\, 1400 Parkmoor Ave\, Suite 280\, San Jose\, CA 95126
URL:https://www.alfsv.org/event/power-of-we-030626/
LOCATION:ALF Silicon Valley Main Office\, 1400 Parkmoor Ave.\, Suite 280\, San Jose\, CA\, 95126\, United States
CATEGORIES:ALF Affinity Group,Race & Equity
END:VEVENT
BEGIN:VEVENT
DTSTART;VALUE=DATE:20260313
DTEND;VALUE=DATE:20260314
DTSTAMP:20260422T220730
CREATED:20250519T174142Z
LAST-MODIFIED:20250519T174142Z
UID:56062-1773360000-1773446399@www.alfsv.org
SUMMARY:Fellows Class XLV Session: Creating New Rhythms Together
DESCRIPTION:For reference only. Session dates subject to change. \nLearn more about the ALF Fellows Program.
URL:https://www.alfsv.org/event/fellows-class-xlv-session-creating-new-rhythms-together/
LOCATION:Private Venue
CATEGORIES:The Fellows Program
END:VEVENT
BEGIN:VEVENT
DTSTART;VALUE=DATE:20260313
DTEND;VALUE=DATE:20260314
DTSTAMP:20260422T220730
CREATED:20250808T001210Z
LAST-MODIFIED:20250808T001210Z
UID:56732-1773360000-1773446399@www.alfsv.org
SUMMARY:Fellows Class XLVI Session: Pre-Orientation
DESCRIPTION:For reference only. Session dates subject to change. \nLearn more about the ALF Fellows Program here.
URL:https://www.alfsv.org/event/fellows-class-xlvi-session-pre-orientation/
LOCATION:Private Venue
CATEGORIES:Session Calendar,The Fellows Program
END:VEVENT
BEGIN:VEVENT
DTSTART;VALUE=DATE:20260327
DTEND;VALUE=DATE:20260328
DTSTAMP:20260422T220730
CREATED:20250519T174251Z
LAST-MODIFIED:20250519T174251Z
UID:56064-1774569600-1774655999@www.alfsv.org
SUMMARY:Fellows Class XLV Session: Graduation
DESCRIPTION:For reference only. Session dates subject to change. \nLearn more about the ALF Fellows Program.
URL:https://www.alfsv.org/event/fellows-class-xlv-session-graduation/
LOCATION:Private Venue
CATEGORIES:The Fellows Program
END:VEVENT
END:VCALENDAR