BEGIN:VCALENDAR
VERSION:2.0
PRODID:-//American Leadership Forum Silicon Valley - ECPv6.15.20//NONSGML v1.0//EN
CALSCALE:GREGORIAN
METHOD:PUBLISH
X-ORIGINAL-URL:https://www.alfsv.org
X-WR-CALDESC:Events for American Leadership Forum Silicon Valley
REFRESH-INTERVAL;VALUE=DURATION:PT1H
X-Robots-Tag:noindex
X-PUBLISHED-TTL:PT1H
BEGIN:VTIMEZONE
TZID:America/Los_Angeles
BEGIN:DAYLIGHT
TZOFFSETFROM:-0800
TZOFFSETTO:-0700
TZNAME:PDT
DTSTART:20250309T100000
END:DAYLIGHT
BEGIN:STANDARD
TZOFFSETFROM:-0700
TZOFFSETTO:-0800
TZNAME:PST
DTSTART:20251102T090000
END:STANDARD
BEGIN:DAYLIGHT
TZOFFSETFROM:-0800
TZOFFSETTO:-0700
TZNAME:PDT
DTSTART:20260308T100000
END:DAYLIGHT
BEGIN:STANDARD
TZOFFSETFROM:-0700
TZOFFSETTO:-0800
TZNAME:PST
DTSTART:20261101T090000
END:STANDARD
BEGIN:DAYLIGHT
TZOFFSETFROM:-0800
TZOFFSETTO:-0700
TZNAME:PDT
DTSTART:20270314T100000
END:DAYLIGHT
BEGIN:STANDARD
TZOFFSETFROM:-0700
TZOFFSETTO:-0800
TZNAME:PST
DTSTART:20271107T090000
END:STANDARD
END:VTIMEZONE
BEGIN:VEVENT
DTSTART;TZID=America/Los_Angeles:20260505T170000
DTEND;TZID=America/Los_Angeles:20260505T200000
DTSTAMP:20260422T220728
CREATED:20260410T200751Z
LAST-MODIFIED:20260410T200758Z
UID:59866-1778000400-1778011200@www.alfsv.org
SUMMARY:ALF Black Spring Gathering
DESCRIPTION:Come and join us in community!\nJoin us for the ALF Black Spring Gathering\, hosted by WeHope\, on May 5th from 5:00-8:00 PM at Saint Samuel Church\, located at 1852 Bay Road\, East Palo Alto! \nOur intent for this session is to: \n\nBe in joy and in community!\nEngage around the next steps for mentoring in the community\nReflect on our hopes and intentions for this group\n\nFood and drinks will be provided! \n			\n				\n				\n				\n				\n				REGISTER NOW
URL:https://www.alfsv.org/event/alf-black-spring-gathering-050526/
LOCATION:Private Venue
CATEGORIES:ALF Affinity Group,Small Group,Social event/mixer
END:VEVENT
BEGIN:VEVENT
DTSTART;TZID=America/Los_Angeles:20260507T170000
DTEND;TZID=America/Los_Angeles:20260507T190000
DTSTAMP:20260422T220728
CREATED:20260410T195105Z
LAST-MODIFIED:20260410T195313Z
UID:59855-1778173200-1778180400@www.alfsv.org
SUMMARY:AAPI Caucus Spring Gathering
DESCRIPTION:Join ALF’s AAPI Caucus on May 7th at 5pm for our Spring Gathering!\nThe focus of this convening will be to reflect on the last five years and what we have learned and gained on our journey together. We hope to use the following questions as a jumping off point for our dialogue: \n\nWhat story about us feels true\, and what story do we want to grow into?\nHow has this group moved and matured since its inception?\nWhere do we want the group to go from here\, and how should we continue building our solidarity as we move forward?\n\nWe look forward to seeing you there! \n			\n				\n				\n				\n				\n				REGISTER NOW
URL:https://www.alfsv.org/event/aapi-spring-gathering-050726/
LOCATION:Private Venue
CATEGORIES:ALF Affinity Group,Small Group,Social event/mixer
END:VEVENT
BEGIN:VEVENT
DTSTART;VALUE=DATE:20260508
DTEND;VALUE=DATE:20260509
DTSTAMP:20260422T220728
CREATED:20250808T002133Z
LAST-MODIFIED:20250808T002133Z
UID:56737-1778198400-1778284799@www.alfsv.org
SUMMARY:Fellows Class XLVI Session: Dialogue Across Differences
DESCRIPTION:For reference only. Session dates subject to change. \nLearn more about the ALF Fellows Program here.
URL:https://www.alfsv.org/event/fellows-class-xlvi-session-dialogue-across-differences/
LOCATION:Private Venue
CATEGORIES:Session Calendar,The Fellows Program
END:VEVENT
BEGIN:VEVENT
DTSTART;TZID=America/Los_Angeles:20260511T173000
DTEND;TZID=America/Los_Angeles:20260511T190000
DTSTAMP:20260422T220728
CREATED:20260420T204818Z
LAST-MODIFIED:20260421T065458Z
UID:60083-1778520600-1778526000@www.alfsv.org
SUMMARY:ALF Fellows Program Mixer
DESCRIPTION:ALF Fellows Program Mixer\nDATE: May 11\, 2026 \nTIME: 5:30 PM – 7:00 PM \nVENUE: 510 S 1st St\, San Jose\, CA 95113 \nHosted by ALF Board Member Anjee Helstrup-Alvarez (Class XXXVII)\, Executive Director\, MACLA  \n			\n				\n				\n				\n				\n				REGISTER NOW
URL:https://www.alfsv.org/event/alf-fellows-program-mixer-051126/
LOCATION:Private Venue
CATEGORIES:Fellows Recruitment,Small Group,Social event/mixer
END:VEVENT
BEGIN:VEVENT
DTSTART;TZID=America/Los_Angeles:20260513T113000
DTEND;TZID=America/Los_Angeles:20260513T133000
DTSTAMP:20260422T220728
CREATED:20260410T203608Z
LAST-MODIFIED:20260410T203615Z
UID:59875-1778671800-1778679000@www.alfsv.org
SUMMARY:ALF 65+ Club Luncheon
DESCRIPTION:ALF 65+ Club Luncheon\nDate: May 13Time: 11:30 AM -1:30 PMVenue: The Vi\, 620 Sand Hill Rd\, Palo AltoCost: $40 \n			\n				\n				\n				\n				\n				REGISTER NOW
URL:https://www.alfsv.org/event/alf-65-club-luncheon-051326/
LOCATION:Private Venue
CATEGORIES:ALF Affinity Group,Small Group,Social event/mixer
END:VEVENT
BEGIN:VEVENT
DTSTART;TZID=America/Los_Angeles:20260526T173000
DTEND;TZID=America/Los_Angeles:20260526T190000
DTSTAMP:20260422T220728
CREATED:20260420T211346Z
LAST-MODIFIED:20260420T211351Z
UID:60090-1779816600-1779822000@www.alfsv.org
SUMMARY:ALF Fellows Program Mixer
DESCRIPTION:ALF Fellows Program Mixer \nDATE: May 26\, 2026 \nTIME: 5:30 PM – 7:00 PM \nVENUE: Bloomberg\, Pier 3\, The Embarcadero Suite 101\, San Francisco\, CA 94111 \nHosted by ALF Board Member Tom Giles (Class XXXVII)\, Executive Editor\, Bloomberg News. \n			\n				\n				\n				\n				\n				REGISTER NOW
URL:https://www.alfsv.org/event/alf-fellows-program-mixer-052626/
LOCATION:Private Venue
CATEGORIES:Fellows Recruitment,Small Group,Social event/mixer
END:VEVENT
END:VCALENDAR